BEGIN:VCALENDAR
VERSION:2.0
PRODID:-//horsealert.local//NONSGML kigkonsult.se iCalcreator 2.10.5//
CALSCALE:GREGORIAN
X-WR-TIMEZONE:Europe/Dublin
BEGIN:VTIMEZONE
TZID:Etc/GMT-1
BEGIN:STANDARD
DTSTART:20010101T000000
TZOFFSETFROM:+0100
TZOFFSETTO:+0100
TZNAME:GMT +01:00
END:STANDARD
END:VTIMEZONE
BEGIN:VEVENT
UID:20260421T233434CEST-27975fVF9C@horsealert.local
DTSTAMP:20260421T210434Z
CATEGORIES:Horse Alerts
DESCRIPTION:Betfred 'Supports Jack Berry House' Conditional Jockeys' Sellin
 g Hurdle
DTSTART:20170621T153000
LOCATION:England
SUMMARY:Horse Racing:Betfred 'Supports Jack Berry House' Conditional Jockey
 s' Selling Hurdle
END:VEVENT
END:VCALENDAR
