BEGIN:VCALENDAR
VERSION:2.0
PRODID:-//horsealert.local//NONSGML kigkonsult.se iCalcreator 2.10.5//
CALSCALE:GREGORIAN
X-WR-TIMEZONE:Europe/Dublin
BEGIN:VTIMEZONE
TZID:Etc/GMT-1
BEGIN:STANDARD
DTSTART:20010101T000000
TZOFFSETFROM:+0100
TZOFFSETTO:+0100
TZNAME:GMT +01:00
END:STANDARD
END:VTIMEZONE
BEGIN:VEVENT
UID:20260421T233432CEST-3638DJmk6h@horsealert.local
DTSTAMP:20260421T210432Z
CATEGORIES:Horse Alerts
DESCRIPTION:Book Hospitality Online Maiden
DTSTART:20170620T182000
LOCATION:Eire
SUMMARY:Horse Racing:Book Hospitality Online Maiden
END:VEVENT
END:VCALENDAR
