BEGIN:VCALENDAR
VERSION:2.0
PRODID:-//horsealert.local//NONSGML kigkonsult.se iCalcreator 2.10.5//
CALSCALE:GREGORIAN
X-WR-TIMEZONE:Europe/Dublin
BEGIN:VTIMEZONE
TZID:Etc/GMT-1
BEGIN:STANDARD
DTSTART:20010101T000000
TZOFFSETFROM:+0100
TZOFFSETTO:+0100
TZNAME:GMT +01:00
END:STANDARD
END:VTIMEZONE
BEGIN:VEVENT
UID:20260421T233307CEST-32770inSmw@horsealert.local
DTSTAMP:20260421T210407Z
CATEGORIES:Horse Alerts
DESCRIPTION:Aintree National Horse Show June 2017 Conditional Jockeys' Hand
 icap Hurdle
DTSTART:20170616T181500
LOCATION:England
SUMMARY:Horse Racing:Aintree National Horse Show June 2017 Conditional Jock
 eys' Handicap Hurdle
END:VEVENT
END:VCALENDAR
