BEGIN:VCALENDAR
VERSION:2.0
PRODID:-//horsealert.local//NONSGML kigkonsult.se iCalcreator 2.10.5//
CALSCALE:GREGORIAN
X-WR-TIMEZONE:Europe/Dublin
BEGIN:VTIMEZONE
TZID:Etc/GMT-1
BEGIN:STANDARD
DTSTART:20010101T000000
TZOFFSETFROM:+0100
TZOFFSETTO:+0100
TZNAME:GMT +01:00
END:STANDARD
END:VTIMEZONE
BEGIN:VEVENT
UID:20260421T233126CEST-6590L0G3WX@horsealert.local
DTSTAMP:20260421T210426Z
CATEGORIES:Horse Alerts
DESCRIPTION:Paul Kelly Veterinary Clinic\, Lets Go Grand Winner Handicap (5
 0-80)
DTSTART:20170616T194500
LOCATION:Eire
SUMMARY:Horse Racing:Paul Kelly Veterinary Clinic\, Lets Go Grand Winner Ha
 ndicap (50-80)
END:VEVENT
END:VCALENDAR
