BEGIN:VCALENDAR
VERSION:2.0
PRODID:-//horsealert.local//NONSGML kigkonsult.se iCalcreator 2.10.5//
CALSCALE:GREGORIAN
X-WR-TIMEZONE:Europe/Dublin
BEGIN:VTIMEZONE
TZID:Etc/GMT-1
BEGIN:STANDARD
DTSTART:20010101T000000
TZOFFSETFROM:+0100
TZOFFSETTO:+0100
TZNAME:GMT +01:00
END:STANDARD
END:VTIMEZONE
BEGIN:VEVENT
UID:20260421T233049CEST-4421vud28N@horsealert.local
DTSTAMP:20260421T210449Z
CATEGORIES:Horse Alerts
DESCRIPTION:Silk Mill Supporting Whitworth Waterski Academy Handicap
DTSTART:20170615T204000
LOCATION:England
SUMMARY:Horse Racing:Silk Mill Supporting Whitworth Waterski Academy Handic
 ap
END:VEVENT
END:VCALENDAR
