BEGIN:VCALENDAR
VERSION:2.0
PRODID:-//horsealert.local//NONSGML kigkonsult.se iCalcreator 2.10.5//
CALSCALE:GREGORIAN
X-WR-TIMEZONE:Europe/Dublin
BEGIN:VTIMEZONE
TZID:Etc/GMT-1
BEGIN:STANDARD
DTSTART:20010101T000000
TZOFFSETFROM:+0100
TZOFFSETTO:+0100
TZNAME:GMT +01:00
END:STANDARD
END:VTIMEZONE
BEGIN:VEVENT
UID:20260421T233051CEST-7198Dn9AWU@horsealert.local
DTSTAMP:20260421T210451Z
CATEGORIES:Horse Alerts
DESCRIPTION:Hamilton Audi 2nd Anniversary Celebration Handicap
DTSTART:20170614T192500
LOCATION:Scotland
SUMMARY:Horse Racing:Hamilton Audi 2nd Anniversary Celebration Handicap
END:VEVENT
END:VCALENDAR
