BEGIN:VCALENDAR
VERSION:2.0
PRODID:-//horsealert.local//NONSGML kigkonsult.se iCalcreator 2.10.5//
CALSCALE:GREGORIAN
X-WR-TIMEZONE:Europe/Dublin
BEGIN:VTIMEZONE
TZID:Etc/GMT-1
BEGIN:STANDARD
DTSTART:20010101T000000
TZOFFSETFROM:+0100
TZOFFSETTO:+0100
TZNAME:GMT +01:00
END:STANDARD
END:VTIMEZONE
BEGIN:VEVENT
UID:20260421T233227CEST-0699j5rHvL@horsealert.local
DTSTAMP:20260421T210427Z
CATEGORIES:Horse Alerts
DESCRIPTION:Animal Health Trust Handicap
DTSTART:20170610T165000
LOCATION:England
SUMMARY:Horse Racing:Animal Health Trust Handicap
END:VEVENT
END:VCALENDAR
