BEGIN:VCALENDAR
VERSION:2.0
PRODID:-//horsealert.local//NONSGML kigkonsult.se iCalcreator 2.10.5//
CALSCALE:GREGORIAN
X-WR-TIMEZONE:Europe/Dublin
BEGIN:VTIMEZONE
TZID:Etc/GMT-1
BEGIN:STANDARD
DTSTART:20010101T000000
TZOFFSETFROM:+0100
TZOFFSETTO:+0100
TZNAME:GMT +01:00
END:STANDARD
END:VTIMEZONE
BEGIN:VEVENT
UID:20260421T233223CEST-3940TvxUVg@horsealert.local
DTSTAMP:20260421T210423Z
CATEGORIES:Horse Alerts
DESCRIPTION:Nicol Hughes Foodservice Handicap Hurdle
DTSTART:20170608T152000
LOCATION:Wales
SUMMARY:Horse Racing:Nicol Hughes Foodservice Handicap Hurdle
END:VEVENT
END:VCALENDAR
