BEGIN:VCALENDAR
VERSION:2.0
PRODID:-//horsealert.local//NONSGML kigkonsult.se iCalcreator 2.10.5//
CALSCALE:GREGORIAN
X-WR-TIMEZONE:Europe/Dublin
BEGIN:VTIMEZONE
TZID:Etc/GMT-1
BEGIN:STANDARD
DTSTART:20010101T000000
TZOFFSETFROM:+0100
TZOFFSETTO:+0100
TZNAME:GMT +01:00
END:STANDARD
END:VTIMEZONE
BEGIN:VEVENT
UID:20260421T233123CEST-4677hpXu9m@horsealert.local
DTSTAMP:20260421T210423Z
CATEGORIES:Horse Alerts
DESCRIPTION:totepoolliveinfo.com Visit For Racing Results Handicap Chase
DTSTART:20170605T154000
LOCATION:England
SUMMARY:Horse Racing:totepoolliveinfo.com Visit For Racing Results Handicap
  Chase
END:VEVENT
END:VCALENDAR
