BEGIN:VCALENDAR
VERSION:2.0
PRODID:-//horsealert.local//NONSGML kigkonsult.se iCalcreator 2.10.5//
CALSCALE:GREGORIAN
X-WR-TIMEZONE:Europe/Dublin
BEGIN:VTIMEZONE
TZID:Etc/GMT-1
BEGIN:STANDARD
DTSTART:20010101T000000
TZOFFSETFROM:+0100
TZOFFSETTO:+0100
TZNAME:GMT +01:00
END:STANDARD
END:VTIMEZONE
BEGIN:VEVENT
UID:20260421T233225CEST-7377ZV4UCs@horsealert.local
DTSTAMP:20260421T210425Z
CATEGORIES:Horse Alerts
DESCRIPTION:Harvest Festival 10th-16th September Handicap Hurdle (80-95) (D
 iv 2)
DTSTART:20170605T152500
LOCATION:Eire
SUMMARY:Horse Racing:Harvest Festival 10th-16th September Handicap Hurdle (
 80-95) (Div 2)
END:VEVENT
END:VCALENDAR
