BEGIN:VCALENDAR
VERSION:2.0
PRODID:-//horsealert.local//NONSGML kigkonsult.se iCalcreator 2.10.5//
CALSCALE:GREGORIAN
X-WR-TIMEZONE:Europe/Dublin
BEGIN:VTIMEZONE
TZID:Etc/GMT-1
BEGIN:STANDARD
DTSTART:20010101T000000
TZOFFSETFROM:+0100
TZOFFSETTO:+0100
TZNAME:GMT +01:00
END:STANDARD
END:VTIMEZONE
BEGIN:VEVENT
UID:20260421T233302CEST-2245dXtxH0@horsealert.local
DTSTAMP:20260421T210402Z
CATEGORIES:Horse Alerts
DESCRIPTION:Family Fun Day June 25th Apprentice Handicap (45-65) (Div 1)
DTSTART:20170605T153500
LOCATION:Eire
SUMMARY:Horse Racing:Family Fun Day June 25th Apprentice Handicap (45-65) (
 Div 1)
END:VEVENT
END:VCALENDAR
