BEGIN:VCALENDAR
VERSION:2.0
PRODID:-//horsealert.local//NONSGML kigkonsult.se iCalcreator 2.10.5//
CALSCALE:GREGORIAN
X-WR-TIMEZONE:Europe/Dublin
BEGIN:VTIMEZONE
TZID:Etc/GMT-1
BEGIN:STANDARD
DTSTART:20010101T000000
TZOFFSETFROM:+0100
TZOFFSETTO:+0100
TZNAME:GMT +01:00
END:STANDARD
END:VTIMEZONE
BEGIN:VEVENT
UID:20260421T233438CEST-6330pUzf52@horsealert.local
DTSTAMP:20260421T210438Z
CATEGORIES:Horse Alerts
DESCRIPTION:Perth Is The Place To Be Handicap Hurdle
DTSTART:20170604T151500
LOCATION:Scotland
SUMMARY:Horse Racing:Perth Is The Place To Be Handicap Hurdle
END:VEVENT
END:VCALENDAR
