BEGIN:VCALENDAR
VERSION:2.0
PRODID:-//horsealert.local//NONSGML kigkonsult.se iCalcreator 2.10.5//
CALSCALE:GREGORIAN
X-WR-TIMEZONE:Europe/Dublin
BEGIN:VTIMEZONE
TZID:Etc/GMT-1
BEGIN:STANDARD
DTSTART:20010101T000000
TZOFFSETFROM:+0100
TZOFFSETTO:+0100
TZNAME:GMT +01:00
END:STANDARD
END:VTIMEZONE
BEGIN:VEVENT
UID:20260421T233613CEST-2954Gse8zz@horsealert.local
DTSTAMP:20260421T210413Z
CATEGORIES:Horse Alerts
DESCRIPTION:Get Active Fakenham 19th - 27th August Novices' Handicap Hurdle
DTSTART:20170604T140000
LOCATION:England
SUMMARY:Horse Racing:Get Active Fakenham 19th - 27th August Novices' Handic
 ap Hurdle
END:VEVENT
END:VCALENDAR
