BEGIN:VCALENDAR
VERSION:2.0
PRODID:-//horsealert.local//NONSGML kigkonsult.se iCalcreator 2.10.5//
CALSCALE:GREGORIAN
X-WR-TIMEZONE:Europe/Dublin
BEGIN:VTIMEZONE
TZID:Etc/GMT-1
BEGIN:STANDARD
DTSTART:20010101T000000
TZOFFSETFROM:+0100
TZOFFSETTO:+0100
TZNAME:GMT +01:00
END:STANDARD
END:VTIMEZONE
BEGIN:VEVENT
UID:20260421T233428CEST-62870VnbV7@horsealert.local
DTSTAMP:20260421T210428Z
CATEGORIES:Horse Alerts
DESCRIPTION:Napoleons Casino & Restaurant Sheffield Supporting WPCC Fillies
 ' Handicap
DTSTART:20170602T183000
LOCATION:England
SUMMARY:Horse Racing:Napoleons Casino & Restaurant Sheffield Supporting WPC
 C Fillies' Handicap
END:VEVENT
END:VCALENDAR
