BEGIN:VCALENDAR
VERSION:2.0
PRODID:-//horsealert.local//NONSGML kigkonsult.se iCalcreator 2.10.5//
CALSCALE:GREGORIAN
X-WR-TIMEZONE:Europe/Dublin
BEGIN:VTIMEZONE
TZID:Etc/GMT-1
BEGIN:STANDARD
DTSTART:20010101T000000
TZOFFSETFROM:+0100
TZOFFSETTO:+0100
TZNAME:GMT +01:00
END:STANDARD
END:VTIMEZONE
BEGIN:VEVENT
UID:20260421T233530CEST-9292juA9dW@horsealert.local
DTSTAMP:20260421T210430Z
CATEGORIES:Horse Alerts
DESCRIPTION:Uncle Fred's 80th Birthday Celebration Claiming Stakes
DTSTART:20170601T135000
LOCATION:England
SUMMARY:Horse Racing:Uncle Fred's 80th Birthday Celebration Claiming Stakes
END:VEVENT
END:VCALENDAR
