BEGIN:VCALENDAR
VERSION:2.0
PRODID:-//horsealert.local//NONSGML kigkonsult.se iCalcreator 2.10.5//
CALSCALE:GREGORIAN
X-WR-TIMEZONE:Europe/Dublin
BEGIN:VTIMEZONE
TZID:Etc/GMT-1
BEGIN:STANDARD
DTSTART:20010101T000000
TZOFFSETFROM:+0100
TZOFFSETTO:+0100
TZNAME:GMT +01:00
END:STANDARD
END:VTIMEZONE
BEGIN:VEVENT
UID:20260422T010539CEST-2158bsSpVU@horsealert.local
DTSTAMP:20260421T230439Z
CATEGORIES:Horse Alerts
DESCRIPTION:Festival Dreams Begin In Ireland With Irish Thoroughbred Market
 ing Maiden Hurdle
DTSTART:20170531T193000
LOCATION:Eire
SUMMARY:Horse Racing:Festival Dreams Begin In Ireland With Irish Thoroughbr
 ed Marketing Maiden Hurdle
END:VEVENT
END:VCALENDAR
