BEGIN:VCALENDAR
VERSION:2.0
PRODID:-//horsealert.local//NONSGML kigkonsult.se iCalcreator 2.10.5//
CALSCALE:GREGORIAN
X-WR-TIMEZONE:Europe/Dublin
BEGIN:VTIMEZONE
TZID:Etc/GMT-1
BEGIN:STANDARD
DTSTART:20010101T000000
TZOFFSETFROM:+0100
TZOFFSETTO:+0100
TZNAME:GMT +01:00
END:STANDARD
END:VTIMEZONE
BEGIN:VEVENT
UID:20260422T010525CEST-8966352f2B@horsealert.local
DTSTAMP:20260421T230425Z
CATEGORIES:Horse Alerts
DESCRIPTION:Museecarnavalet Stakes
DTSTART:20170531T135000
LOCATION:France
SUMMARY:Horse Racing:Museecarnavalet Stakes
END:VEVENT
END:VCALENDAR
