BEGIN:VCALENDAR
VERSION:2.0
PRODID:-//horsealert.local//NONSGML kigkonsult.se iCalcreator 2.10.5//
CALSCALE:GREGORIAN
X-WR-TIMEZONE:Europe/Dublin
BEGIN:VTIMEZONE
TZID:Etc/GMT-1
BEGIN:STANDARD
DTSTART:20010101T000000
TZOFFSETFROM:+0100
TZOFFSETTO:+0100
TZNAME:GMT +01:00
END:STANDARD
END:VTIMEZONE
BEGIN:VEVENT
UID:20260422T010538CEST-3050xdXm17@horsealert.local
DTSTAMP:20260421T230438Z
CATEGORIES:Horse Alerts
DESCRIPTION:Collect totepool Winnings At Betfred Shops 'Hands And Heels' Ap
 prentice Handicap
DTSTART:20170531T172000
LOCATION:England
SUMMARY:Horse Racing:Collect totepool Winnings At Betfred Shops 'Hands And 
 Heels' Apprentice Handicap
END:VEVENT
END:VCALENDAR
