BEGIN:VCALENDAR
VERSION:2.0
PRODID:-//horsealert.local//NONSGML kigkonsult.se iCalcreator 2.10.5//
CALSCALE:GREGORIAN
X-WR-TIMEZONE:Europe/Dublin
BEGIN:VTIMEZONE
TZID:Etc/GMT-1
BEGIN:STANDARD
DTSTART:20010101T000000
TZOFFSETFROM:+0100
TZOFFSETTO:+0100
TZNAME:GMT +01:00
END:STANDARD
END:VTIMEZONE
BEGIN:VEVENT
UID:20260422T010804CEST-3012btjuBx@horsealert.local
DTSTAMP:20260421T230404Z
CATEGORIES:Horse Alerts
DESCRIPTION:totepool Betting On All UK Racing Handicap
DTSTART:20170531T165000
LOCATION:England
SUMMARY:Horse Racing:totepool Betting On All UK Racing Handicap
END:VEVENT
END:VCALENDAR
