BEGIN:VCALENDAR
VERSION:2.0
PRODID:-//horsealert.local//NONSGML kigkonsult.se iCalcreator 2.10.5//
CALSCALE:GREGORIAN
X-WR-TIMEZONE:Europe/Dublin
BEGIN:VTIMEZONE
TZID:Etc/GMT-1
BEGIN:STANDARD
DTSTART:20010101T000000
TZOFFSETFROM:+0100
TZOFFSETTO:+0100
TZNAME:GMT +01:00
END:STANDARD
END:VTIMEZONE
BEGIN:VEVENT
UID:20260422T010850CEST-6606iXApr1@horsealert.local
DTSTAMP:20260421T230450Z
CATEGORIES:Horse Alerts
DESCRIPTION:EBF totequadpot Insure Your Placepot Last Four Fillies' Handica
 p
DTSTART:20170531T152000
LOCATION:England
SUMMARY:Horse Racing:EBF totequadpot Insure Your Placepot Last Four Fillies
 ' Handicap
END:VEVENT
END:VCALENDAR
