BEGIN:VCALENDAR
VERSION:2.0
PRODID:-//horsealert.local//NONSGML kigkonsult.se iCalcreator 2.10.5//
CALSCALE:GREGORIAN
X-WR-TIMEZONE:Europe/Dublin
BEGIN:VTIMEZONE
TZID:Etc/GMT-1
BEGIN:STANDARD
DTSTART:20010101T000000
TZOFFSETFROM:+0100
TZOFFSETTO:+0100
TZNAME:GMT +01:00
END:STANDARD
END:VTIMEZONE
BEGIN:VEVENT
UID:20260422T010648CEST-8143TBjv5G@horsealert.local
DTSTAMP:20260421T230448Z
CATEGORIES:Horse Alerts
DESCRIPTION:Bathwick Tyres EBF Novice Stakes (Plus 10)
DTSTART:20170527T174500
LOCATION:England
SUMMARY:Horse Racing:Bathwick Tyres EBF Novice Stakes (Plus 10)
END:VEVENT
END:VCALENDAR
