BEGIN:VCALENDAR
VERSION:2.0
PRODID:-//horsealert.local//NONSGML kigkonsult.se iCalcreator 2.10.5//
CALSCALE:GREGORIAN
X-WR-TIMEZONE:Europe/Dublin
BEGIN:VTIMEZONE
TZID:Etc/GMT-1
BEGIN:STANDARD
DTSTART:20010101T000000
TZOFFSETFROM:+0100
TZOFFSETTO:+0100
TZNAME:GMT +01:00
END:STANDARD
END:VTIMEZONE
BEGIN:VEVENT
UID:20260422T010649CEST-7519vMm2dm@horsealert.local
DTSTAMP:20260421T230449Z
CATEGORIES:Horse Alerts
DESCRIPTION:Bananarama Live After The Last Race Fillies' Handicap
DTSTART:20170526T203000
LOCATION:England
SUMMARY:Horse Racing:Bananarama Live After The Last Race Fillies' Handicap
END:VEVENT
END:VCALENDAR
