BEGIN:VCALENDAR
VERSION:2.0
PRODID:-//horsealert.local//NONSGML kigkonsult.se iCalcreator 2.10.5//
CALSCALE:GREGORIAN
X-WR-TIMEZONE:Europe/Dublin
BEGIN:VTIMEZONE
TZID:Etc/GMT-1
BEGIN:STANDARD
DTSTART:20010101T000000
TZOFFSETFROM:+0100
TZOFFSETTO:+0100
TZNAME:GMT +01:00
END:STANDARD
END:VTIMEZONE
BEGIN:VEVENT
UID:20260422T010535CEST-0266KU46uJ@horsealert.local
DTSTAMP:20260421T230435Z
CATEGORIES:Horse Alerts
DESCRIPTION:Buy Tickets Online At TipperaryRaces.ie Handicap Hurdle
DTSTART:20170525T202000
LOCATION:Eire
SUMMARY:Horse Racing:Buy Tickets Online At TipperaryRaces.ie Handicap Hurdl
 e
END:VEVENT
END:VCALENDAR
