BEGIN:VCALENDAR
VERSION:2.0
PRODID:-//horsealert.local//NONSGML kigkonsult.se iCalcreator 2.10.5//
CALSCALE:GREGORIAN
X-WR-TIMEZONE:Europe/Dublin
BEGIN:VTIMEZONE
TZID:Etc/GMT-1
BEGIN:STANDARD
DTSTART:20010101T000000
TZOFFSETFROM:+0100
TZOFFSETTO:+0100
TZNAME:GMT +01:00
END:STANDARD
END:VTIMEZONE
BEGIN:VEVENT
UID:20260422T010848CEST-5693TS6AMi@horsealert.local
DTSTAMP:20260421T230448Z
CATEGORIES:Horse Alerts
DESCRIPTION:Happy 80th Birthday Michael Ryan Rating Related Maiden Stakes
DTSTART:20170525T171500
LOCATION:England
SUMMARY:Horse Racing:Happy 80th Birthday Michael Ryan Rating Related Maiden
  Stakes
END:VEVENT
END:VCALENDAR
