BEGIN:VCALENDAR
VERSION:2.0
PRODID:-//horsealert.local//NONSGML kigkonsult.se iCalcreator 2.10.5//
CALSCALE:GREGORIAN
X-WR-TIMEZONE:Europe/Dublin
BEGIN:VTIMEZONE
TZID:Etc/GMT-1
BEGIN:STANDARD
DTSTART:20010101T000000
TZOFFSETFROM:+0100
TZOFFSETTO:+0100
TZNAME:GMT +01:00
END:STANDARD
END:VTIMEZONE
BEGIN:VEVENT
UID:20260422T010637CEST-5966aSKngI@horsealert.local
DTSTAMP:20260421T230437Z
CATEGORIES:Horse Alerts
DESCRIPTION:bookies.com Free Bets Novices' Handicap Chase
DTSTART:20170524T175000
LOCATION:England
SUMMARY:Horse Racing:bookies.com Free Bets Novices' Handicap Chase
END:VEVENT
END:VCALENDAR
