BEGIN:VCALENDAR
VERSION:2.0
PRODID:-//horsealert.local//NONSGML kigkonsult.se iCalcreator 2.10.5//
CALSCALE:GREGORIAN
X-WR-TIMEZONE:Europe/Dublin
BEGIN:VTIMEZONE
TZID:Etc/GMT-1
BEGIN:STANDARD
DTSTART:20010101T000000
TZOFFSETFROM:+0100
TZOFFSETTO:+0100
TZNAME:GMT +01:00
END:STANDARD
END:VTIMEZONE
BEGIN:VEVENT
UID:20260422T010810CEST-1489oU8mCu@horsealert.local
DTSTAMP:20260421T230410Z
CATEGORIES:Horse Alerts
DESCRIPTION:Al Rayyan Stakes (Group 3) (Registered As The Aston Park Stakes
 )
DTSTART:20170520T135000
LOCATION:England
SUMMARY:Horse Racing:Al Rayyan Stakes (Group 3) (Registered As The Aston Pa
 rk Stakes)
END:VEVENT
END:VCALENDAR
