BEGIN:VCALENDAR
VERSION:2.0
PRODID:-//horsealert.local//NONSGML kigkonsult.se iCalcreator 2.10.5//
CALSCALE:GREGORIAN
X-WR-TIMEZONE:Europe/Dublin
BEGIN:VTIMEZONE
TZID:Etc/GMT-1
BEGIN:STANDARD
DTSTART:20010101T000000
TZOFFSETFROM:+0100
TZOFFSETTO:+0100
TZNAME:GMT +01:00
END:STANDARD
END:VTIMEZONE
BEGIN:VEVENT
UID:20260422T010528CEST-0801dpMS8s@horsealert.local
DTSTAMP:20260421T230428Z
CATEGORIES:Horse Alerts
DESCRIPTION:Henry Carr 23rd Birthday Celebrations Ladies' Open Hunters' Cha
 se
DTSTART:20170518T174000
LOCATION:England
SUMMARY:Horse Racing:Henry Carr 23rd Birthday Celebrations Ladies' Open Hun
 ters' Chase
END:VEVENT
END:VCALENDAR
