BEGIN:VCALENDAR
VERSION:2.0
PRODID:-//horsealert.local//NONSGML kigkonsult.se iCalcreator 2.10.5//
CALSCALE:GREGORIAN
X-WR-TIMEZONE:Europe/Dublin
BEGIN:VTIMEZONE
TZID:Etc/GMT-1
BEGIN:STANDARD
DTSTART:20010101T000000
TZOFFSETFROM:+0100
TZOFFSETTO:+0100
TZNAME:GMT +01:00
END:STANDARD
END:VTIMEZONE
BEGIN:VEVENT
UID:20260422T010647CEST-2580zguIKi@horsealert.local
DTSTAMP:20260421T230447Z
CATEGORIES:Horse Alerts
DESCRIPTION:R & A Mason Electrical & Heating Maiden Hurdle
DTSTART:20170517T171500
LOCATION:England
SUMMARY:Horse Racing:R & A Mason Electrical & Heating Maiden Hurdle
END:VEVENT
END:VCALENDAR
