BEGIN:VCALENDAR
VERSION:2.0
PRODID:-//horsealert.local//NONSGML kigkonsult.se iCalcreator 2.10.5//
CALSCALE:GREGORIAN
X-WR-TIMEZONE:Europe/Dublin
BEGIN:VTIMEZONE
TZID:Etc/GMT-1
BEGIN:STANDARD
DTSTART:20010101T000000
TZOFFSETFROM:+0100
TZOFFSETTO:+0100
TZNAME:GMT +01:00
END:STANDARD
END:VTIMEZONE
BEGIN:VEVENT
UID:20260422T010940CEST-1070wbEPlt@horsealert.local
DTSTAMP:20260421T230440Z
CATEGORIES:Horse Alerts
DESCRIPTION:R & A Mason Electrical & Heating Novices' Hurdle
DTSTART:20170517T161500
LOCATION:England
SUMMARY:Horse Racing:R & A Mason Electrical & Heating Novices' Hurdle
END:VEVENT
END:VCALENDAR
