BEGIN:VCALENDAR
VERSION:2.0
PRODID:-//horsealert.local//NONSGML kigkonsult.se iCalcreator 2.10.5//
CALSCALE:GREGORIAN
X-WR-TIMEZONE:Europe/Dublin
BEGIN:VTIMEZONE
TZID:Etc/GMT-1
BEGIN:STANDARD
DTSTART:20010101T000000
TZOFFSETFROM:+0100
TZOFFSETTO:+0100
TZNAME:GMT +01:00
END:STANDARD
END:VTIMEZONE
BEGIN:VEVENT
UID:20260422T011229CEST-0016L97Wi2@horsealert.local
DTSTAMP:20260421T230429Z
CATEGORIES:Horse Alerts
DESCRIPTION:Weddings & Private Parties At Yarmouth Racecourse Handicap (Div
  2)
DTSTART:20170517T165500
LOCATION:England
SUMMARY:Horse Racing:Weddings & Private Parties At Yarmouth Racecourse Hand
 icap (Div 2)
END:VEVENT
END:VCALENDAR
