BEGIN:VCALENDAR
VERSION:2.0
PRODID:-//horsealert.local//NONSGML kigkonsult.se iCalcreator 2.10.5//
CALSCALE:GREGORIAN
X-WR-TIMEZONE:Europe/Dublin
BEGIN:VTIMEZONE
TZID:Etc/GMT-1
BEGIN:STANDARD
DTSTART:20010101T000000
TZOFFSETFROM:+0100
TZOFFSETTO:+0100
TZNAME:GMT +01:00
END:STANDARD
END:VTIMEZONE
BEGIN:VEVENT
UID:20260422T011255CEST-8643u1rIg9@horsealert.local
DTSTAMP:20260421T230455Z
CATEGORIES:Horse Alerts
DESCRIPTION:Paxtons For Kverneland Machinery & Genuine Spares Novices' Chas
 e
DTSTART:20170516T145000
LOCATION:England
SUMMARY:Horse Racing:Paxtons For Kverneland Machinery & Genuine Spares Novi
 ces' Chase
END:VEVENT
END:VCALENDAR
