BEGIN:VCALENDAR
VERSION:2.0
PRODID:-//horsealert.local//NONSGML kigkonsult.se iCalcreator 2.10.5//
CALSCALE:GREGORIAN
X-WR-TIMEZONE:Europe/Dublin
BEGIN:VTIMEZONE
TZID:Etc/GMT-1
BEGIN:STANDARD
DTSTART:20010101T000000
TZOFFSETFROM:+0100
TZOFFSETTO:+0100
TZNAME:GMT +01:00
END:STANDARD
END:VTIMEZONE
BEGIN:VEVENT
UID:20260422T011252CEST-8585ehhBvK@horsealert.local
DTSTAMP:20260421T230452Z
CATEGORIES:Horse Alerts
DESCRIPTION:totepoolracing Win Racing Tickets On Twitter Open Hunters' Chas
 e
DTSTART:20170515T200000
LOCATION:England
SUMMARY:Horse Racing:totepoolracing Win Racing Tickets On Twitter Open Hunt
 ers' Chase
END:VEVENT
END:VCALENDAR
