BEGIN:VCALENDAR
VERSION:2.0
PRODID:-//horsealert.local//NONSGML kigkonsult.se iCalcreator 2.10.5//
CALSCALE:GREGORIAN
X-WR-TIMEZONE:Europe/Dublin
BEGIN:VTIMEZONE
TZID:Etc/GMT-1
BEGIN:STANDARD
DTSTART:20010101T000000
TZOFFSETFROM:+0100
TZOFFSETTO:+0100
TZNAME:GMT +01:00
END:STANDARD
END:VTIMEZONE
BEGIN:VEVENT
UID:20260422T011053CEST-4008X6n48D@horsealert.local
DTSTAMP:20260421T230453Z
CATEGORIES:Horse Alerts
DESCRIPTION:Olivia Mellett 18th Birthday Conditional Jockeys' Handicap Hurd
 le
DTSTART:20170514T161500
LOCATION:England
SUMMARY:Horse Racing:Olivia Mellett 18th Birthday Conditional Jockeys' Hand
 icap Hurdle
END:VEVENT
END:VCALENDAR
