BEGIN:VCALENDAR
VERSION:2.0
PRODID:-//horsealert.local//NONSGML kigkonsult.se iCalcreator 2.10.5//
CALSCALE:GREGORIAN
X-WR-TIMEZONE:Europe/Dublin
BEGIN:VTIMEZONE
TZID:Etc/GMT-1
BEGIN:STANDARD
DTSTART:20010101T000000
TZOFFSETFROM:+0100
TZOFFSETTO:+0100
TZNAME:GMT +01:00
END:STANDARD
END:VTIMEZONE
BEGIN:VEVENT
UID:20260422T011055CEST-05717TNS3m@horsealert.local
DTSTAMP:20260421T230455Z
CATEGORIES:Horse Alerts
DESCRIPTION:Great North Swim Handicap Hurdle
DTSTART:20170513T153000
LOCATION:England
SUMMARY:Horse Racing:Great North Swim Handicap Hurdle
END:VEVENT
END:VCALENDAR
