BEGIN:VCALENDAR
VERSION:2.0
PRODID:-//horsealert.local//NONSGML kigkonsult.se iCalcreator 2.10.5//
CALSCALE:GREGORIAN
X-WR-TIMEZONE:Europe/Dublin
BEGIN:VTIMEZONE
TZID:Etc/GMT-1
BEGIN:STANDARD
DTSTART:20010101T000000
TZOFFSETFROM:+0100
TZOFFSETTO:+0100
TZNAME:GMT +01:00
END:STANDARD
END:VTIMEZONE
BEGIN:VEVENT
UID:20260422T011013CEST-74961sM9Pi@horsealert.local
DTSTAMP:20260421T230413Z
CATEGORIES:Horse Alerts
DESCRIPTION:Club Godolphin EBF 'Breeders' Series' Fillies' Handicap (Str)
DTSTART:20170513T152500
LOCATION:England
SUMMARY:Horse Racing:Club Godolphin EBF 'Breeders' Series' Fillies' Handica
 p (Str)
END:VEVENT
END:VCALENDAR
