BEGIN:VCALENDAR
VERSION:2.0
PRODID:-//horsealert.local//NONSGML kigkonsult.se iCalcreator 2.10.5//
CALSCALE:GREGORIAN
X-WR-TIMEZONE:Europe/Dublin
BEGIN:VTIMEZONE
TZID:Etc/GMT-1
BEGIN:STANDARD
DTSTART:20010101T000000
TZOFFSETFROM:+0100
TZOFFSETTO:+0100
TZNAME:GMT +01:00
END:STANDARD
END:VTIMEZONE
BEGIN:VEVENT
UID:20260422T010845CEST-2004ikPzHP@horsealert.local
DTSTAMP:20260421T230445Z
CATEGORIES:Horse Alerts
DESCRIPTION:EBF Weatherbys General Stud Book Online Kilvington Stakes (Fill
 ies' Listed)
DTSTART:20170513T155000
LOCATION:England
SUMMARY:Horse Racing:EBF Weatherbys General Stud Book Online Kilvington Sta
 kes (Fillies' Listed)
END:VEVENT
END:VCALENDAR
