BEGIN:VCALENDAR
VERSION:2.0
PRODID:-//horsealert.local//NONSGML kigkonsult.se iCalcreator 2.10.5//
CALSCALE:GREGORIAN
X-WR-TIMEZONE:Europe/Dublin
BEGIN:VTIMEZONE
TZID:Etc/GMT-1
BEGIN:STANDARD
DTSTART:20010101T000000
TZOFFSETFROM:+0100
TZOFFSETTO:+0100
TZNAME:GMT +01:00
END:STANDARD
END:VTIMEZONE
BEGIN:VEVENT
UID:20260422T011016CEST-4717uI667o@horsealert.local
DTSTAMP:20260421T230416Z
CATEGORIES:Horse Alerts
DESCRIPTION:Du Moulin Joly Handicap
DTSTART:20170508T130500
LOCATION:France
SUMMARY:Horse Racing:Du Moulin Joly Handicap
END:VEVENT
END:VCALENDAR
