BEGIN:VCALENDAR
VERSION:2.0
PRODID:-//horsealert.local//NONSGML kigkonsult.se iCalcreator 2.10.5//
CALSCALE:GREGORIAN
X-WR-TIMEZONE:Europe/Dublin
BEGIN:VTIMEZONE
TZID:Etc/GMT-1
BEGIN:STANDARD
DTSTART:20010101T000000
TZOFFSETFROM:+0100
TZOFFSETTO:+0100
TZNAME:GMT +01:00
END:STANDARD
END:VTIMEZONE
BEGIN:VEVENT
UID:20260422T010950CEST-8147fEORRe@horsealert.local
DTSTAMP:20260421T230450Z
CATEGORIES:Horse Alerts
DESCRIPTION:Summer Weddings At Western House Hotel Novice Stakes
DTSTART:20170508T140000
LOCATION:Scotland
SUMMARY:Horse Racing:Summer Weddings At Western House Hotel Novice Stakes
END:VEVENT
END:VCALENDAR
