BEGIN:VCALENDAR
VERSION:2.0
PRODID:-//horsealert.local//NONSGML kigkonsult.se iCalcreator 2.10.5//
CALSCALE:GREGORIAN
X-WR-TIMEZONE:Europe/Dublin
BEGIN:VTIMEZONE
TZID:Etc/GMT-1
BEGIN:STANDARD
DTSTART:20010101T000000
TZOFFSETFROM:+0100
TZOFFSETTO:+0100
TZNAME:GMT +01:00
END:STANDARD
END:VTIMEZONE
BEGIN:VEVENT
UID:20260422T010943CEST-2162dtUZzl@horsealert.local
DTSTAMP:20260421T230443Z
CATEGORIES:Horse Alerts
DESCRIPTION:Denis Murphy Racing & MSK Silversands Supporting Wexford Camogi
 e Handicap Hurdle (80-95) (Div 1)
DTSTART:20170506T160500
LOCATION:Eire
SUMMARY:Horse Racing:Denis Murphy Racing & MSK Silversands Supporting Wexfo
 rd Camogie Handicap Hurdle (80-95) (Div 1)
END:VEVENT
END:VCALENDAR
