BEGIN:VCALENDAR
VERSION:2.0
PRODID:-//horsealert.local//NONSGML kigkonsult.se iCalcreator 2.10.5//
CALSCALE:GREGORIAN
X-WR-TIMEZONE:Europe/Dublin
BEGIN:VTIMEZONE
TZID:Etc/GMT-1
BEGIN:STANDARD
DTSTART:20010101T000000
TZOFFSETFROM:+0100
TZOFFSETTO:+0100
TZNAME:GMT +01:00
END:STANDARD
END:VTIMEZONE
BEGIN:VEVENT
UID:20260422T011148CEST-0566k8E8CV@horsealert.local
DTSTAMP:20260421T230448Z
CATEGORIES:Horse Alerts
DESCRIPTION:Monbeg Stables Donnacha Doyle Racing Ltd. Supporting Wexford Ca
 mogie Mares Maiden Hurdle
DTSTART:20170506T150000
LOCATION:Eire
SUMMARY:Horse Racing:Monbeg Stables Donnacha Doyle Racing Ltd. Supporting W
 exford Camogie Mares Maiden Hurdle
END:VEVENT
END:VCALENDAR
