BEGIN:VCALENDAR
VERSION:2.0
PRODID:-//horsealert.local//NONSGML kigkonsult.se iCalcreator 2.10.5//
CALSCALE:GREGORIAN
X-WR-TIMEZONE:Europe/Dublin
BEGIN:VTIMEZONE
TZID:Etc/GMT-1
BEGIN:STANDARD
DTSTART:20010101T000000
TZOFFSETFROM:+0100
TZOFFSETTO:+0100
TZNAME:GMT +01:00
END:STANDARD
END:VTIMEZONE
BEGIN:VEVENT
UID:20260422T011018CEST-2019Cs3V7N@horsealert.local
DTSTAMP:20260421T230418Z
CATEGORIES:Horse Alerts
DESCRIPTION:Chancelloroftheformchecker Champion Jockey 2016 Jamie Moore Han
 dicap Chase
DTSTART:20170505T193500
LOCATION:England
SUMMARY:Horse Racing:Chancelloroftheformchecker Champion Jockey 2016 Jamie 
 Moore Handicap Chase
END:VEVENT
END:VCALENDAR
