BEGIN:VCALENDAR
VERSION:2.0
PRODID:-//horsealert.local//NONSGML kigkonsult.se iCalcreator 2.10.5//
CALSCALE:GREGORIAN
X-WR-TIMEZONE:Europe/Dublin
BEGIN:VTIMEZONE
TZID:Etc/GMT-1
BEGIN:STANDARD
DTSTART:20010101T000000
TZOFFSETFROM:+0100
TZOFFSETTO:+0100
TZNAME:GMT +01:00
END:STANDARD
END:VTIMEZONE
BEGIN:VEVENT
UID:20260422T011236CEST-4745ZsR9SO@horsealert.local
DTSTAMP:20260421T230436Z
CATEGORIES:Horse Alerts
DESCRIPTION:Pat O'Hare Bookmakers - Follow Us On Facebook Handicap Hurdle (
 80-95)
DTSTART:20170505T185000
LOCATION:Northern Ireland
SUMMARY:Horse Racing:Pat O'Hare Bookmakers - Follow Us On Facebook Handicap
  Hurdle (80-95)
END:VEVENT
END:VCALENDAR
