BEGIN:VCALENDAR
VERSION:2.0
PRODID:-//horsealert.local//NONSGML kigkonsult.se iCalcreator 2.10.5//
CALSCALE:GREGORIAN
X-WR-TIMEZONE:Europe/Dublin
BEGIN:VTIMEZONE
TZID:Etc/GMT-1
BEGIN:STANDARD
DTSTART:20010101T000000
TZOFFSETFROM:+0100
TZOFFSETTO:+0100
TZNAME:GMT +01:00
END:STANDARD
END:VTIMEZONE
BEGIN:VEVENT
UID:20260422T010819CEST-83286CvP03@horsealert.local
DTSTAMP:20260421T230419Z
CATEGORIES:Horse Alerts
DESCRIPTION:Get The Sky Bet Advantage Veterans' Handicap
DTSTART:20170505T145000
LOCATION:Wales
SUMMARY:Horse Racing:Get The Sky Bet Advantage Veterans' Handicap
END:VEVENT
END:VCALENDAR
