BEGIN:VCALENDAR
VERSION:2.0
PRODID:-//horsealert.local//NONSGML kigkonsult.se iCalcreator 2.10.5//
CALSCALE:GREGORIAN
X-WR-TIMEZONE:Europe/Dublin
BEGIN:VTIMEZONE
TZID:Etc/GMT-1
BEGIN:STANDARD
DTSTART:20010101T000000
TZOFFSETFROM:+0100
TZOFFSETTO:+0100
TZNAME:GMT +01:00
END:STANDARD
END:VTIMEZONE
BEGIN:VEVENT
UID:20260422T010537CEST-0321h6WpSS@horsealert.local
DTSTAMP:20260421T230437Z
CATEGORIES:Horse Alerts
DESCRIPTION:BBQ Race Evening Friday June 9th Handicap (45-65)
DTSTART:20170504T185000
LOCATION:Eire
SUMMARY:Horse Racing:BBQ Race Evening Friday June 9th Handicap (45-65)
END:VEVENT
END:VCALENDAR
