BEGIN:VCALENDAR
VERSION:2.0
PRODID:-//horsealert.local//NONSGML kigkonsult.se iCalcreator 2.10.5//
CALSCALE:GREGORIAN
X-WR-TIMEZONE:Europe/Dublin
BEGIN:VTIMEZONE
TZID:Etc/GMT-1
BEGIN:STANDARD
DTSTART:20010101T000000
TZOFFSETFROM:+0100
TZOFFSETTO:+0100
TZNAME:GMT +01:00
END:STANDARD
END:VTIMEZONE
BEGIN:VEVENT
UID:20260422T011017CEST-2057z7IIeu@horsealert.local
DTSTAMP:20260421T230417Z
CATEGORIES:Horse Alerts
DESCRIPTION:At myracingtips Join 220\,000 Racing Fans Handicap
DTSTART:20170501T171000
LOCATION:England
SUMMARY:Horse Racing:At myracingtips Join 220\,000 Racing Fans Handicap
END:VEVENT
END:VCALENDAR
