BEGIN:VCALENDAR
VERSION:2.0
PRODID:-//horsealert.local//NONSGML kigkonsult.se iCalcreator 2.10.5//
CALSCALE:GREGORIAN
X-WR-TIMEZONE:Europe/Dublin
BEGIN:VTIMEZONE
TZID:Etc/GMT-1
BEGIN:STANDARD
DTSTART:20010101T000000
TZOFFSETFROM:+0100
TZOFFSETTO:+0100
TZNAME:GMT +01:00
END:STANDARD
END:VTIMEZONE
BEGIN:VEVENT
UID:20260422T043913CEST-13121bUuKX@horsealert.local
DTSTAMP:20260422T020413Z
CATEGORIES:Horse Alerts
DESCRIPTION:Advance Ticket Booking Discount At thirskracecourse.net Handica
 p
DTSTART:20170430T161500
LOCATION:England
SUMMARY:Horse Racing:Advance Ticket Booking Discount At thirskracecourse.ne
 t Handicap
END:VEVENT
END:VCALENDAR
