BEGIN:VCALENDAR
VERSION:2.0
PRODID:-//horsealert.local//NONSGML kigkonsult.se iCalcreator 2.10.5//
CALSCALE:GREGORIAN
X-WR-TIMEZONE:Europe/Dublin
BEGIN:VTIMEZONE
TZID:Etc/GMT-1
BEGIN:STANDARD
DTSTART:20010101T000000
TZOFFSETFROM:+0100
TZOFFSETTO:+0100
TZNAME:GMT +01:00
END:STANDARD
END:VTIMEZONE
BEGIN:VEVENT
UID:20260422T043914CEST-3217GrNJc9@horsealert.local
DTSTAMP:20260422T020414Z
CATEGORIES:Horse Alerts
DESCRIPTION:Thirsk Racecourse Licensed For Wedding Ceremonies Handicap (Div
  1)
DTSTART:20170430T151500
LOCATION:England
SUMMARY:Horse Racing:Thirsk Racecourse Licensed For Wedding Ceremonies Hand
 icap (Div 1)
END:VEVENT
END:VCALENDAR
