BEGIN:VCALENDAR
VERSION:2.0
PRODID:-//horsealert.local//NONSGML kigkonsult.se iCalcreator 2.10.5//
CALSCALE:GREGORIAN
X-WR-TIMEZONE:Europe/Dublin
BEGIN:VTIMEZONE
TZID:Etc/GMT-1
BEGIN:STANDARD
DTSTART:20010101T000000
TZOFFSETFROM:+0100
TZOFFSETTO:+0100
TZNAME:GMT +01:00
END:STANDARD
END:VTIMEZONE
BEGIN:VEVENT
UID:20260422T043935CEST-3445aELBhP@horsealert.local
DTSTAMP:20260422T020435Z
CATEGORIES:Horse Alerts
DESCRIPTION:Irish Stallion Farms E.B.F. Victor McCalmont Memorial Stakes (F
 illies Listed)
DTSTART:20170430T153500
LOCATION:Eire
SUMMARY:Horse Racing:Irish Stallion Farms E.B.F. Victor McCalmont Memorial 
 Stakes (Fillies Listed)
END:VEVENT
END:VCALENDAR
