BEGIN:VCALENDAR
VERSION:2.0
PRODID:-//horsealert.local//NONSGML kigkonsult.se iCalcreator 2.10.5//
CALSCALE:GREGORIAN
X-WR-TIMEZONE:Europe/Dublin
BEGIN:VTIMEZONE
TZID:Etc/GMT-1
BEGIN:STANDARD
DTSTART:20010101T000000
TZOFFSETFROM:+0100
TZOFFSETTO:+0100
TZNAME:GMT +01:00
END:STANDARD
END:VTIMEZONE
BEGIN:VEVENT
UID:20260422T043746CEST-91984e0pu2@horsealert.local
DTSTAMP:20260422T020446Z
CATEGORIES:Horse Alerts
DESCRIPTION:RiponBET Place6 Lucky Dip Handicap
DTSTART:20170429T144500
LOCATION:England
SUMMARY:Horse Racing:RiponBET Place6 Lucky Dip Handicap
END:VEVENT
END:VCALENDAR
