BEGIN:VCALENDAR
VERSION:2.0
PRODID:-//horsealert.local//NONSGML kigkonsult.se iCalcreator 2.10.5//
CALSCALE:GREGORIAN
X-WR-TIMEZONE:Europe/Dublin
BEGIN:VTIMEZONE
TZID:Etc/GMT-1
BEGIN:STANDARD
DTSTART:20010101T000000
TZOFFSETFROM:+0100
TZOFFSETTO:+0100
TZNAME:GMT +01:00
END:STANDARD
END:VTIMEZONE
BEGIN:VEVENT
UID:20260422T043934CEST-2509VggHJC@horsealert.local
DTSTAMP:20260422T020434Z
CATEGORIES:Horse Alerts
DESCRIPTION:Boxing Betting At 188Bet Handicap
DTSTART:20170429T165500
LOCATION:England
SUMMARY:Horse Racing:Boxing Betting At 188Bet Handicap
END:VEVENT
END:VCALENDAR
